BEGIN:VCALENDAR
VERSION:2.0
PRODID:-//My Mister - ECPv5.5.0.1//NONSGML v1.0//EN
CALSCALE:GREGORIAN
METHOD:PUBLISH
X-WR-CALNAME:My Mister
X-ORIGINAL-URL:https://www.my-mister.net
X-WR-CALDESC:Veranstaltungen für My Mister
BEGIN:VTIMEZONE
TZID:Europe/Berlin
BEGIN:DAYLIGHT
TZOFFSETFROM:+0100
TZOFFSETTO:+0200
TZNAME:CEST
DTSTART:20230326T010000
END:DAYLIGHT
BEGIN:STANDARD
TZOFFSETFROM:+0200
TZOFFSETTO:+0100
TZNAME:CET
DTSTART:20231029T010000
END:STANDARD
END:VTIMEZONE
BEGIN:VEVENT
DTSTART;TZID=Europe/Berlin:20230118T100000
DTEND;TZID=Europe/Berlin:20230118T110000
DTSTAMP:20260422T174710
CREATED:20230110T092944Z
LAST-MODIFIED:20230110T092944Z
UID:2704-1674036000-1674039600@www.my-mister.net
SUMMARY:Privatkredit ganz einfach
DESCRIPTION:Meeting LogIn: HIER EINWÄHLEN
URL:https://www.my-mister.net/event/privatkredit-ganz-einfach-25/
LOCATION:Digitaler Vortrag
CATEGORIES:Webinar
ATTACH;FMTTYPE=image/png:https://www.my-mister.net/wp-content/uploads/2020/04/credicom-300x150-1.png
END:VEVENT
END:VCALENDAR