BEGIN:VCALENDAR
VERSION:2.0
PRODID:-//My Mister - ECPv5.5.0.1//NONSGML v1.0//EN
CALSCALE:GREGORIAN
METHOD:PUBLISH
X-WR-CALNAME:My Mister
X-ORIGINAL-URL:https://www.my-mister.net
X-WR-CALDESC:Veranstaltungen fÃ¼r My Mister
BEGIN:VTIMEZONE
TZID:Europe/Berlin
BEGIN:DAYLIGHT
TZOFFSETFROM:+0100
TZOFFSETTO:+0200
TZNAME:CEST
DTSTART:20210328T010000
END:DAYLIGHT
BEGIN:STANDARD
TZOFFSETFROM:+0200
TZOFFSETTO:+0100
TZNAME:CET
DTSTART:20211031T010000
END:STANDARD
END:VTIMEZONE
BEGIN:VEVENT
DTSTART;TZID=Europe/Berlin:20210506T190000
DTEND;TZID=Europe/Berlin:20210506T200000
DTSTAMP:20260421T022528
CREATED:20210505T191724Z
LAST-MODIFIED:20210505T191724Z
UID:2027-1620327600-1620331200@www.my-mister.net
SUMMARY:Das Konzept Systemimmobilie - Live Call mit unseren Produktpartner | Konzeptvorstellung: SystemImmo & NettoImmo
DESCRIPTION:Konzeptvorstellung: SystemImmo & NettoImmo \n  \n \nMeeting LogIn: HIER EINWÃ„HLEN \nPasswort fÃ¼r den Live Call gibt es im My Mister Portal &#8211; Mister Immo &#8211; Systemimmobilie \n  \nKundengewinnung durch kostenlose Landingpage &#8211; das ganze auch ohne 34c als Tipgeber \nÃœber Mister Immo kÃ¶nnt ihr euch die Landingpage bestellen \nHier ein Beispiel :\nhttps://je784.isrefer.com/go/liveweb_SI/misterimmo/ \n  \n  \n 
URL:https://www.my-mister.net/event/das-konzept-systemimmobilie-live-call-mit-unseren-produktpartner-konzeptvorstellung-systemimmo-nettoimmo/
LOCATION:Digitaler Vortrag
ATTACH;FMTTYPE=image/jpeg:https://www.my-mister.net/wp-content/uploads/2019/10/Logo-Portale-Mister-Immo.jpg
END:VEVENT
END:VCALENDAR